BEGIN:VCALENDAR
VERSION:2.0
PRODID:-//eventon.com NONSGML v1.0//EN
CALSCALE:GREGORIAN
METHOD:PUBLISH
BEGIN:VEVENT
UID:69e888652c1b4
DTSTAMP:20260422T083549Z
DTSTART:20250709T190000Z
DTEND:20250709T205000Z
LOCATION:ΒΑΣΙΛΙΚΟ - ΧΩΡΟΣ ΔΥΠΑ (ΟΑΕΔ)
SUMMARY:ΓΛΥΚΕΡΙΑ & ΜΕΛΙΝΑ ΑΣΛΑΝΙΔΟΥ
DESCRIPTION:\nhttps://opsevias.gr/events/%ce%b3%ce%bb%cf%85%ce%ba%ce%b5%cf%
 81%ce%b9%ce%b1-%ce%bc%ce%b5%ce%bb%ce%b9%ce%bd%ce%b1-%ce%b1%cf%83%ce%bb%ce%b
 1%ce%bd%ce%b9%ce%b4%ce%bf%cf%85/
URL:https://opsevias.gr/events/%ce%b3%ce%bb%cf%85%ce%ba%ce%b5%cf%81%ce%b9%ce%b1-%ce%bc%ce%b5%ce%bb%ce%b9%ce%bd%ce%b1-%ce%b1%cf%83%ce%bb%ce%b1%ce%bd%ce%b9%ce%b4%ce%bf%cf%85/
END:VEVENT
END:VCALENDAR