BEGIN:VCALENDAR
VERSION:2.0
PRODID:-//eventon.com NONSGML v1.0//EN
CALSCALE:GREGORIAN
METHOD:PUBLISH
BEGIN:VEVENT
UID:69e737bbae9e6
DTSTAMP:20260421T083923Z
DTSTART:20250615T173000Z
DTEND:20250615T205000Z
LOCATION:Συνεδριακό Κέντρο Π.Ε. Ευβοίας
SUMMARY:"ΟΔΟΙΠΟΡΩΝΤΑΣ ΣΤΑ ΜΟΝΟΠΑΤΙΑ ΤΟΥ ΠΟΝΤΟΥ"
DESCRIPTION:\nhttps://opsevias.gr/events/%ce%bf%ce%b4%ce%bf%ce%b9%cf%80%ce%
 bf%cf%81%cf%89%ce%bd%cf%84%ce%b1%cf%83-%cf%83%cf%84%ce%b1-%ce%bc%ce%bf%ce%b
 d%ce%bf%cf%80%ce%b1%cf%84%ce%b9%ce%b1-%cf%84%ce%bf%cf%85-%cf%80%ce%bf%ce%bd
 %cf%84%ce%bf/
URL:https://opsevias.gr/events/%ce%bf%ce%b4%ce%bf%ce%b9%cf%80%ce%bf%cf%81%cf%89%ce%bd%cf%84%ce%b1%cf%83-%cf%83%cf%84%ce%b1-%ce%bc%ce%bf%ce%bd%ce%bf%cf%80%ce%b1%cf%84%ce%b9%ce%b1-%cf%84%ce%bf%cf%85-%cf%80%ce%bf%ce%bd%cf%84%ce%bf/
END:VEVENT
END:VCALENDAR